Workbook

Sheet Erläuterung
A1: Erläuterung
A3: Erläuterungen zum Berechnungsformular
A4: Das vorliegende Excel-Berechnungsformular dient der Dokumentation und Berechnung des beantragten LIB.
A5: Aufbau des Berechnungsformulars
A6: Das Berechnungsformular besteht aus folgenden Arbeitsblättern: • Arbeitsblatt „Beantragter LIB": Berechnet den beantragten LIB basierend auf den Angaben der nachfolgenden Arbeitsblätter. • Arbeitsblatt „Total Abzüge": Dokumentiert die Abzüge aufgrund steuerlicher Innovationsförderung oder sonstiger Finanzhilfen. • Arbeitsblatt „Total Aufwendungen": Fasst die finanziellen Aufwendungen der förderberechtigten Tätigkeiten und Massnahmen gemäss den Arbeitsblättern T1 bis Tn zusammen. • Arbeitsblätter T1 bis Tn: Enthalten die Beschreibung der förderberechtigten Tätigkeiten und Massnahmen sowie deren zugehörigen finanziellen Aufwendungen.
A7: Ausfüllen des Berechnungsformulars
A8: Das Berechnungsformular wird wie folgt ausgefüllt: • Für jede förderberechtigte Tätigkeit oder Massnahme ist ein Arbeitsblatt (T1, T2, ... Tn) auszufüllen. Weitere Hinweise zum Ausfüllen und zu den erforderlichen Nachweisen finden Sie direkt im Arbeitsblatt. Für Management- und Unterstützungsaufgaben ist kein separates Arbeitsblatt auszufüllen; die Informationen sind im zugehörigen Arbeitsblatt der förderberechtigten Tätigkeiten oder Massnahmen zu ergänzen. • Das Berechnungsformular enthält fünf identische Arbeitsblätter (T1 bis T5). Falls mehr als fünf förderberechtigte Tätigkeiten oder Massnahmen geltend gemacht werden, können zusätzliche Arbeitsblätter kopiert werden. Diese erhalten die Bezeichnungen T6, T7 usw. Bitte tragen sie den Namen der zustätzlichen Arbeitsblätter (T6, T7, etc.) ins Arbeitsblatt "Total Aufwendungen" in Zeile 9 fortlaufend zu den bereits bestehenden Arbeitsblätter T1-T5 ein. • Im Arbeitsblatt „Total Aufwendungen" werden die finanziellen Aufwendungen aus den Arbeitsblättern T1 bis Tn automatisch konsolidiert. Überprüfen Sie, dass alle Angaben korrekt übernommen und summiert wurden. • Im Arbeitsblatt „Total Abzüge" sind allfällige Abzüge aufgrund steuerlicher Innovationsförderung oder sonstiger Finanzhilfen vorzunehmen und zu dokumentieren. • Im Arbeitsblatt „Beantragter LIB" überprüfen Sie, dass sämtliche Beträge gemäss den ausgefüllten Arbeitsblättern korrekt übernommen wurden.
A9: Nachweise zu finanziellen Aufwendungen
A10: Die Beilagen sind wie folgt einzureichen: Die finanziellen Aufwendungen der förderberechtigten Tätigkeiten und Massnahmen sind mittels Nachweisen zu belegen (siehe Erläuterung in den Arbeitsblätter T1 bis T5). Die Nachweise sind in einer ZIP-Datei mit dem Namen Beilagen.zip gemäss folgender Ordnerstruktur zusammenzufassen: Beilagen.zip │ ├── Ordner Abzug │ └── Nachweise zu allfälligen Abzügen │ ├── Ordner T1 │ └── Alle Nachweise zur Tätigkeit/Massnahme aus Arbeitsblatt T1 │ ├── Ordner T2 │ └── Alle Nachweise zur Tätigkeit/Massnahme aus Arbeitsblatt T2 │ ├── Ordner T3 │ └── Alle Nachweise zur Tätigkeit/Massnahme aus Arbeitsblatt T3 │ └── Ordner Tn └── Alle Nachweise zur Tätigkeit/Massnahme aus Arbeitsblatt Tn Hinweis: Im Gesuch sind noch weitere Nachweise wie die Jahresrechnung oder der Bericht zum nachhaltigen Wirtschaften einzureichen. Diese Nachweise werden direkt im Gesuchsformular (Webformular) eingereicht und gehören nicht in die ZIP-Datei.

Sheet Beantragter LIB
A1: Beantragter LIB
A3: Erläuterungen zum Arbeitsblatt
A4: Dieses Arbeitsblatt berechnet automatisch den beantragten LIB basierend auf den Angaben in den nachfolgenden Arbeitsblättern. Kontrollieren Sie, dass alle Ihre Angaben aus den nachfolgenden Arbeitsblättern korrekt in die Berechnung übernommen wurden. Der berechnete Wert (Feld D17) ist in das Gesuchsformular (Webformular) zu übernehmen. Wichtig: In diesem Arbeitsblatt können Sie keine Angaben eintragen. Es ist ein reines Berechnungsblatt.
A7: Position | B7: Betrag | C7: Beitragssatz | D7: Bruttobetrag
A8: Personalaufwendungen | B8: ='Total Aufwendungen'!B10 -> 0 | C8: 0.3 | D8: =B8*C8 -> 0
A9: Investitionsaufwendungen | B9: ='Total Aufwendungen'!B11 -> 0 | C9: 0.2 | D9: =B9*C9 -> 0
A10: Auftragsforschungsaufwendungen | B10: ='Total Aufwendungen'!B12 -> 0 | C10: 0.1 | D10: =B10*C10 -> 0
A11: Sonstige Aufwendungen | B11: ='Total Aufwendungen'!B13 -> 0 | C11: 0.1 | D11: =B11*C11 -> 0
A12: Total Bruttobetrag | D12: =SUM(D8:D11) -> 0
A14: Position | D14: Abzüge
A15: Abzug steuerliche Innovationsförderung | D15: ='Total Abzüge'!B9 -> 0
A16: Abzug sonstige Finanzhilfe | D16: ='Total Abzüge'!B13 -> 0
A17: Beantragter LIB | D17: =D12-D15-D16 -> 0

Sheet Total Abzüge
A1: Total Abzüge (für steuerliche Innovationsförderung und sonstige Finanzhilfen)
A3: Erläuterungen zum Arbeitsblatt
A4: Der Kanton Luzern möchte sicherstellen, dass Unternehmen für dieselbe Tätigkeit oder Massnahme nicht mehrfach gefördert werden. Deshalb müssen Sie vom Bruttobetrag Abzüge vornehmen für: • Steuerliche Innovationsförderung: Zur steuerlichen Innovationsförderung zählen die Patentbox und der Abzug für Forschungs- und Entwicklungsaufwand, die auf Stufe Staats- und Gemeindesteuer Luzern auf Antrag gewährt werden. • Sonstige Finanzhilfen: Die sonstigen Finanzhilfen umfassen sämtliche Zuschüsse, Fördermittel, Unterstützungsbeiträge, Beihilfen und ähnliches, welche das gesuchstellende Unternehmen für die gleichen Tätigkeiten und Massnahmen für das gleiche Bemessungsjahr im In- und Ausland erhält. Auf allfällige Abgrenzungsschwierigkeiten zu den einzelnen förderberechtigen Tätigkeiten und Massnahmen ist in den Erläuterungen explizit hinzuweisen. Für weitergehende Erläuterungen siehe LIB-Handbuch, Teil 5, Abschnitt H.
A7: Eingabefelder sind grün markiert | Pflichtfelder sind mit einem Stern * markiert
A9: Abzug steuerliche Innovationsförderung * [LIB-Handbuch, Teil 5, Abschnitt H] | B9: 0
A10: Erläuterung Abzug steuerliche Innovationsförderung (zwingend auszufüllen, falls Abzüge vorgenommen wurden)
A13: Abzug sonstige Finanzhilfen * [LIB-Handbuch, Teil 5, Abschnitt H] | B13: 0
A14: Erläuterung Abzug sonstige Finanzhilfen (zwingend auszufüllen, falls Abzüge vorgenommen wurden)

Sheet Total Aufwendungen
A1: Total Aufwendungen (Zusammenzug aller förderberechtigten Tätigkeiten und Massnahmen)
A3: Erläuterungen zum Arbeitsblatt
A4: Dieses Arbeitsblatt konsolidiert die finanziellen Aufwendungen der von Ihnen angegebenen förderberechtigten Tätigkeiten und Massnahmen aus den Arbeitsblättern T1, T2, ... Tn (Tätigkeiten 1 bis n). In Zeile 9 sind die Namen aller Arbeitsblätter aufzuführen, die Ihre förderberechtigten Tätigkeiten und Massnahmen enthalten. Anpassungen sind grundsätzlich nur erforderlich, wenn Sie mehr als 5 Tätigkeiten oder Massnahmen geltend machen (und sie entsprechend weitere Arbeitsblätter hinzugefügt haben). Die finanziellen Aufwendungen der förderberechtigten Tätigkeiten und Massnahmen werden automatisch gemäss den in Zeile 9 aufgeführten Arbeitsblättern übernommen. Überprüfen Sie, dass alle Angaben korrekt übernommen wurden.
A7: Eingabefelder sind grün markiert | Pflichtfelder sind mit einem Stern * markiert
A9: Arbeitsblatt | B9: Summe | C9: T1 | D9: T2 | E9: T3 | F9: T4 | G9: T5
A10: Personalaufwendungen | B10: =SUM(C10:ZZ10) -> 0 | C10: {=IFERROR(INDIRECT(C$9&"!B33"),"")} -> 0 | D10: {=IFERROR(INDIRECT(D$9&"!B33"),"")} -> 0 | E10: {=IFERROR(INDIRECT(E$9&"!B33"),"")} -> 0 | F10: {=IFERROR(INDIRECT(F$9&"!B33"),"")} -> 0 | G10: {=IFERROR(INDIRECT(G$9&"!B33"),"")} -> 0 | H10: {=IFERROR(INDIRECT(H$9&"!B33"),"")} | I10: {=IFERROR(INDIRECT(I$9&"!B33"),"")} | J10: {=IFERROR(INDIRECT(J$9&"!B33"),"")} | ... ZZ10: {=IFERROR(INDIRECT(ZZ$9&"!B33"),"")}
A11: Investitionsaufwendungen | B11: =SUM(C11:ZZ11) -> 0 | C11: {=IFERROR(INDIRECT(C$9&"!B34"),"")} -> 0 | D11: {=IFERROR(INDIRECT(D$9&"!B34"),"")} -> 0 | E11: {=IFERROR(INDIRECT(E$9&"!B34"),"")} -> 0 | F11: {=IFERROR(INDIRECT(F$9&"!B34"),"")} -> 0 | G11: {=IFERROR(INDIRECT(G$9&"!B34"),"")} -> 0 | H11: {=IFERROR(INDIRECT(H$9&"!B34"),"")} | I11: {=IFERROR(INDIRECT(I$9&"!B34"),"")} | J11: {=IFERROR(INDIRECT(J$9&"!B34"),"")} | ... ZZ11: {=IFERROR(INDIRECT(ZZ$9&"!B34"),"")}
A12: Auftragsforschungsaufwendungen | B12: =SUM(C12:ZZ12) -> 0 | C12: {=IFERROR(INDIRECT(C$9&"!B35"),"")} -> 0 | D12: {=IFERROR(INDIRECT(D$9&"!B35"),"")} -> 0 | E12: {=IFERROR(INDIRECT(E$9&"!B35"),"")} -> 0 | F12: {=IFERROR(INDIRECT(F$9&"!B35"),"")} -> 0 | G12: {=IFERROR(INDIRECT(G$9&"!B35"),"")} -> 0 | H12: {=IFERROR(INDIRECT(H$9&"!B35"),"")} | I12: {=IFERROR(INDIRECT(I$9&"!B35"),"")} | J12: {=IFERROR(INDIRECT(J$9&"!B35"),"")} | ... ZZ12: {=IFERROR(INDIRECT(ZZ$9&"!B35"),"")}
A13: Sonstige Aufwendungen | B13: =SUM(C13:ZZ13) -> 0 | C13: {=IFERROR(INDIRECT(C$9&"!B36"),"")} -> 0 | D13: {=IFERROR(INDIRECT(D$9&"!B36"),"")} -> 0 | E13: {=IFERROR(INDIRECT(E$9&"!B36"),"")} -> 0 | F13: {=IFERROR(INDIRECT(F$9&"!B36"),"")} -> 0 | G13: {=IFERROR(INDIRECT(G$9&"!B36"),"")} -> 0 | H13: {=IFERROR(INDIRECT(H$9&"!B36"),"")} | I13: {=IFERROR(INDIRECT(I$9&"!B36"),"")} | J13: {=IFERROR(INDIRECT(J$9&"!B36"),"")} | ... ZZ13: {=IFERROR(INDIRECT(ZZ$9&"!B36"),"")}

Sheet T1
A1: Angaben zu einer einzelnen förderberechtigten Tätigkeit oder Massnahme
A3: Erläuterungen zum Arbeitsblatt
A4: Für jede förderberechtigte Tätigkeit oder Massnahme ist ein separates Arbeitsblatt auszufüllen. Das Berechnungsformular stellt dafür fünf leere Arbeitsblätter (T1 bis T5) zur Verfügung. Falls mehr als fünf Tätigkeiten oder Massnahmen geltend gemacht werden sollen, können die Arbeitsblätter T1 bis T5 beliebig oft kopiert werden. Zusätzliche Arbeitsblätter erhalten die Bezeichnungen T6, T7 usw. Es sind folgende Angaben zu machen: • Bezeichnung der förderberechtigten Tätigkeit oder Massnahme • Beschreibung im Umfang von einer halben bis ganzen Seite Text mit Angaben zu Zielsetzung und Vorgehensweise • Kategorisierung (auch Mehrfachnennung möglich) als: Grundlagenforschung, industrielle Forschung, experimentelle Entwicklung, Organisationsinnovation, Prozessinnovation oder klinische Studie. Begründen Sie, warum Sie diese Kategorien gewählt haben bzw. warum diese zutreffen. • Neuartigkeit: Erklären Sie, warum die Tätigkeit oder Massnahme schöpferisch und neuartig ist. • Management- und Unterstützungsaufgaben: Geben Sie an, ob solche Aufgaben angefallen sind. Falls ja: Erläutern Sie den damit verbundenen Aufwand. • Finanzielle Aufwendungen (im Bemessungsjahr), unterteilt in Personalaufwendungen, Investitionsaufwendungen, Auftragsforschungsfaufwendungen und sonstige Aufwendungen. Falls Management- und Unterstützungsaufgaben angefallen sind, sind diese Aufwendungen direkt einzurechnen. • Erläuterungen zu den finanziellen Aufwendungen mit Hinweisen auf die beigelegten Nachweise. Ein Beispiel, wie diese Formularseite auszufüllen ist, siehe LIB-Handbuch im Teil 4, Abschnitt F, Abschnitt 3. Hinweise zur Sammlung und zum Einreichen der Nachweise (insbesondere zum Nachweis der finanziellen Aufwendungen) finden Sie im Arbeitsblatt „Erläuterung".
A7: Eingabefelder sind grün markiert | Pflichtfelder sind mit einem Stern * gekennzeichnet
A9: Bezeichnung förderberechtigte Tätigkeit/Massnahme *
A12: Beschreibung (insb. Zielsetzung und Vorgehensweise) *
A15: Kategorisierung (auch Mehrfachnennung) * [LIB-Handbuch, Teil 4, Abschnitt F]
A16: Grundlagenforschung
A17: Industrielle Forschung
A18: Experimentelle Entwicklung
A19: Organisationsinnovation
A20: Prozessinnovation
... A32: Finanzielle Aufwendungen für dieses Vorhaben * [LIB-Handbuch, Teil 5, Abschnitt G]
A33: Personalaufwendungen | B33: 0
A34: Investitionsaufwendungen | B34: 0
A35: Auftragsforschungsaufwendungen | B35: 0
A36: Sonstige Aufwendungen | B36: 0
A37: Erläuterung zu den finanziellen Aufwendungen * (inkl. Hinweise zur Interpretation der Beilagen)

Sheet T2
A1: Angaben zu einer einzelnen förderberechtigten Tätigkeit oder Massnahme
A3: Erläuterungen zum Arbeitsblatt
A4: Für jede förderberechtigte Tätigkeit oder Massnahme ist ein separates Arbeitsblatt auszufüllen. Das Berechnungsformular stellt dafür fünf leere Arbeitsblätter (T1 bis T5) zur Verfügung. Falls mehr als fünf Tätigkeiten oder Massnahmen geltend gemacht werden sollen, können die Arbeitsblätter T1 bis T5 beliebig oft kopiert werden. Zusätzliche Arbeitsblätter erhalten die Bezeichnungen T6, T7 usw. Es sind folgende Angaben zu machen: • Bezeichnung der förderberechtigten Tätigkeit oder Massnahme • Beschreibung im Umfang von einer halben bis ganzen Seite Text mit Angaben zu Zielsetzung und Vorgehensweise • Kategorisierung (auch Mehrfachnennung möglich) als: Grundlagenforschung, industrielle Forschung, experimentelle Entwicklung, Organisationsinnovation, Prozessinnovation oder klinische Studie. Begründen Sie, warum Sie diese Kategorien gewählt haben bzw. warum diese zutreffen. • Neuartigkeit: Erklären Sie, warum die Tätigkeit oder Massnahme schöpferisch und neuartig ist. • Management- und Unterstützungsaufgaben: Geben Sie an, ob solche Aufgaben angefallen sind. Falls ja: Erläutern Sie den damit verbundenen Aufwand. • Finanzielle Aufwendungen (im Bemessungsjahr), unterteilt in Personalaufwendungen, Investitionsaufwendungen, Auftragsforschungsfaufwendungen und sonstige Aufwendungen. Falls Management- und Unterstützungsaufgaben angefallen sind, sind diese Aufwendungen direkt einzurechnen. • Erläuterungen zu den finanziellen Aufwendungen mit Hinweisen auf die beigelegten Nachweise. Ein Beispiel, wie diese Formularseite auszufüllen ist, siehe LIB-Handbuch im Teil 4, Abschnitt F, Abschnitt 3. Hinweise zur Sammlung und zum Einreichen der Nachweise (insbesondere zum Nachweis der finanziellen Aufwendungen) finden Sie im Arbeitsblatt „Erläuterung".
A7: Eingabefelder sind grün markiert | Pflichtfelder sind mit einem Stern * gekennzeichnet
A9: Bezeichnung förderberechtigte Tätigkeit/Massnahme *
A12: Beschreibung (insb. Zielsetzung und Vorgehensweise) *
A15: Kategorisierung (auch Mehrfachnennung) * [LIB-Handbuch, Teil 4, Abschnitt F]
A16: Grundlagenforschung
A17: Industrielle Forschung
A18: Experimentelle Entwicklung
A19: Organisationsinnovation
A20: Prozessinnovation
... A32: Finanzielle Aufwendungen für dieses Vorhaben * [LIB-Handbuch, Teil 5, Abschnitt G]
A33: Personalaufwendungen | B33: 0
A34: Investitionsaufwendungen | B34: 0
A35: Auftragsforschungsaufwendungen | B35: 0
A36: Sonstige Aufwendungen | B36: 0
A37: Erläuterung zu den finanziellen Aufwendungen * (inkl. Hinweise zur Interpretation der Beilagen)

Sheet T3
A1: Angaben zu einer einzelnen förderberechtigten Tätigkeit oder Massnahme
A3: Erläuterungen zum Arbeitsblatt
A4: Für jede förderberechtigte Tätigkeit oder Massnahme ist ein separates Arbeitsblatt auszufüllen. Das Berechnungsformular stellt dafür fünf leere Arbeitsblätter (T1 bis T5) zur Verfügung. Falls mehr als fünf Tätigkeiten oder Massnahmen geltend gemacht werden sollen, können die Arbeitsblätter T1 bis T5 beliebig oft kopiert werden. Zusätzliche Arbeitsblätter erhalten die Bezeichnungen T6, T7 usw. Es sind folgende Angaben zu machen: • Bezeichnung der förderberechtigten Tätigkeit oder Massnahme • Beschreibung im Umfang von einer halben bis ganzen Seite Text mit Angaben zu Zielsetzung und Vorgehensweise • Kategorisierung (auch Mehrfachnennung möglich) als: Grundlagenforschung, industrielle Forschung, experimentelle Entwicklung, Organisationsinnovation, Prozessinnovation oder klinische Studie. Begründen Sie, warum Sie diese Kategorien gewählt haben bzw. warum diese zutreffen. • Neuartigkeit: Erklären Sie, warum die Tätigkeit oder Massnahme schöpferisch und neuartig ist. • Management- und Unterstützungsaufgaben: Geben Sie an, ob solche Aufgaben angefallen sind. Falls ja: Erläutern Sie den damit verbundenen Aufwand. • Finanzielle Aufwendungen (im Bemessungsjahr), unterteilt in Personalaufwendungen, Investitionsaufwendungen, Auftragsforschungsfaufwendungen und sonstige Aufwendungen. Falls Management- und Unterstützungsaufgaben angefallen sind, sind diese Aufwendungen direkt einzurechnen. • Erläuterungen zu den finanziellen Aufwendungen mit Hinweisen auf die beigelegten Nachweise. Ein Beispiel, wie diese Formularseite auszufüllen ist, siehe LIB-Handbuch im Teil 4, Abschnitt F, Abschnitt 3. Hinweise zur Sammlung und zum Einreichen der Nachweise (insbesondere zum Nachweis der finanziellen Aufwendungen) finden Sie im Arbeitsblatt „Erläuterung".
A7: Eingabefelder sind grün markiert | Pflichtfelder sind mit einem Stern * gekennzeichnet
A9: Bezeichnung förderberechtigte Tätigkeit/Massnahme *
A12: Beschreibung (insb. Zielsetzung und Vorgehensweise) *
A15: Kategorisierung (auch Mehrfachnennung) * [LIB-Handbuch, Teil 4, Abschnitt F]
A16: Grundlagenforschung
A17: Industrielle Forschung
A18: Experimentelle Entwicklung
A19: Organisationsinnovation
A20: Prozessinnovation
... A32: Finanzielle Aufwendungen für dieses Vorhaben * [LIB-Handbuch, Teil 5, Abschnitt G]
A33: Personalaufwendungen | B33: 0
A34: Investitionsaufwendungen | B34: 0
A35: Auftragsforschungsaufwendungen | B35: 0
A36: Sonstige Aufwendungen | B36: 0
A37: Erläuterung zu den finanziellen Aufwendungen * (inkl. Hinweise zur Interpretation der Beilagen)

Sheet T4
A1: Angaben zu einer einzelnen förderberechtigten Tätigkeit oder Massnahme
A3: Erläuterungen zum Arbeitsblatt
A4: Für jede förderberechtigte Tätigkeit oder Massnahme ist ein separates Arbeitsblatt auszufüllen. Das Berechnungsformular stellt dafür fünf leere Arbeitsblätter (T1 bis T5) zur Verfügung. Falls mehr als fünf Tätigkeiten oder Massnahmen geltend gemacht werden sollen, können die Arbeitsblätter T1 bis T5 beliebig oft kopiert werden. Zusätzliche Arbeitsblätter erhalten die Bezeichnungen T6, T7 usw. Es sind folgende Angaben zu machen: • Bezeichnung der förderberechtigten Tätigkeit oder Massnahme • Beschreibung im Umfang von einer halben bis ganzen Seite Text mit Angaben zu Zielsetzung und Vorgehensweise • Kategorisierung (auch Mehrfachnennung möglich) als: Grundlagenforschung, industrielle Forschung, experimentelle Entwicklung, Organisationsinnovation, Prozessinnovation oder klinische Studie. Begründen Sie, warum Sie diese Kategorien gewählt haben bzw. warum diese zutreffen. • Neuartigkeit: Erklären Sie, warum die Tätigkeit oder Massnahme schöpferisch und neuartig ist. • Management- und Unterstützungsaufgaben: Geben Sie an, ob solche Aufgaben angefallen sind. Falls ja: Erläutern Sie den damit verbundenen Aufwand. • Finanzielle Aufwendungen (im Bemessungsjahr), unterteilt in Personalaufwendungen, Investitionsaufwendungen, Auftragsforschungsfaufwendungen und sonstige Aufwendungen. Falls Management- und Unterstützungsaufgaben angefallen sind, sind diese Aufwendungen direkt einzurechnen. • Erläuterungen zu den finanziellen Aufwendungen mit Hinweisen auf die beigelegten Nachweise. Ein Beispiel, wie diese Formularseite auszufüllen ist, siehe LIB-Handbuch im Teil 4, Abschnitt F, Abschnitt 3. Hinweise zur Sammlung und zum Einreichen der Nachweise (insbesondere zum Nachweis der finanziellen Aufwendungen) finden Sie im Arbeitsblatt „Erläuterung".
A7: Eingabefelder sind grün markiert | Pflichtfelder sind mit einem Stern * gekennzeichnet
A9: Bezeichnung förderberechtigte Tätigkeit/Massnahme *
A12: Beschreibung (insb. Zielsetzung und Vorgehensweise) *
A15: Kategorisierung (auch Mehrfachnennung) * [LIB-Handbuch, Teil 4, Abschnitt F]
A16: Grundlagenforschung
A17: Industrielle Forschung
A18: Experimentelle Entwicklung
A19: Organisationsinnovation
A20: Prozessinnovation
... A32: Finanzielle Aufwendungen für dieses Vorhaben * [LIB-Handbuch, Teil 5, Abschnitt G]
A33: Personalaufwendungen | B33: 0
A34: Investitionsaufwendungen | B34: 0
A35: Auftragsforschungsaufwendungen | B35: 0
A36: Sonstige Aufwendungen | B36: 0
A37: Erläuterung zu den finanziellen Aufwendungen * (inkl. Hinweise zur Interpretation der Beilagen)

Sheet T5
A1: Angaben zu einer einzelnen förderberechtigten Tätigkeit oder Massnahme
A3: Erläuterungen zum Arbeitsblatt
A4: Für jede förderberechtigte Tätigkeit oder Massnahme ist ein separates Arbeitsblatt auszufüllen. Das Berechnungsformular stellt dafür fünf leere Arbeitsblätter (T1 bis T5) zur Verfügung. Falls mehr als fünf Tätigkeiten oder Massnahmen geltend gemacht werden sollen, können die Arbeitsblätter T1 bis T5 beliebig oft kopiert werden. Zusätzliche Arbeitsblätter erhalten die Bezeichnungen T6, T7 usw. Es sind folgende Angaben zu machen: • Bezeichnung der förderberechtigten Tätigkeit oder Massnahme • Beschreibung im Umfang von einer halben bis ganzen Seite Text mit Angaben zu Zielsetzung und Vorgehensweise • Kategorisierung (auch Mehrfachnennung möglich) als: Grundlagenforschung, industrielle Forschung, experimentelle Entwicklung, Organisationsinnovation, Prozessinnovation oder klinische Studie. Begründen Sie, warum Sie diese Kategorien gewählt haben bzw. warum diese zutreffen. • Neuartigkeit: Erklären Sie, warum die Tätigkeit oder Massnahme schöpferisch und neuartig ist. • Management- und Unterstützungsaufgaben: Geben Sie an, ob solche Aufgaben angefallen sind. Falls ja: Erläutern Sie den damit verbundenen Aufwand. • Finanzielle Aufwendungen (im Bemessungsjahr), unterteilt in Personalaufwendungen, Investitionsaufwendungen, Auftragsforschungsfaufwendungen und sonstige Aufwendungen. Falls Management- und Unterstützungsaufgaben angefallen sind, sind diese Aufwendungen direkt einzurechnen. • Erläuterungen zu den finanziellen Aufwendungen mit Hinweisen auf die beigelegten Nachweise. Ein Beispiel, wie diese Formularseite auszufüllen ist, siehe LIB-Handbuch im Teil 4, Abschnitt F, Abschnitt 3. Hinweise zur Sammlung und zum Einreichen der Nachweise (insbesondere zum Nachweis der finanziellen Aufwendungen) finden Sie im Arbeitsblatt „Erläuterung".
A7: Eingabefelder sind grün markiert | Pflichtfelder sind mit einem Stern * gekennzeichnet
A9: Bezeichnung förderberechtigte Tätigkeit/Massnahme *
A12: Beschreibung (insb. Zielsetzung und Vorgehensweise) *
A15: Kategorisierung (auch Mehrfachnennung) * [LIB-Handbuch, Teil 4, Abschnitt F]
A16: Grundlagenforschung
A17: Industrielle Forschung
A18: Experimentelle Entwicklung
A19: Organisationsinnovation
A20: Prozessinnovation
... A32: Finanzielle Aufwendungen für dieses Vorhaben * [LIB-Handbuch, Teil 5, Abschnitt G]
A33: Personalaufwendungen | B33: 0
A34: Investitionsaufwendungen | B34: 0
A35: Auftragsforschungsaufwendungen | B35: 0
A36: Sonstige Aufwendungen | B36: 0
A37: Erläuterung zu den finanziellen Aufwendungen * (inkl. Hinweise zur Interpretation der Beilagen)
